1.5625
0
0
-1.5625
222339.915024
451332.160618
