1.5625
0
0
-1.5625
166653.284024
425814.877134
