1.5625
0
0
-1.5625
165341.441024
566928.387252
