1.5625
0
0
-1.5625
196342.449024
502947.313902
