1.5625
0
0
-1.5625
97016.3940236
461782.83061
