1.5625
0
0
-1.5625
100346.960024
486774.356732
