1.5625
0
0
-1.5625
187663.326024
310936.394193
