1.5625
0
0
-1.5625
79773.5760236
427665.198917
