1.5625
0
0
-1.5625
114284.404024
449873.859756
