1.5625
0
0
-1.5625
222902.920024
497953.53113
