1.5625
0
0
-1.5625
167382.298024
391478.499839
