1.5625
0
0
-1.5625
138571.426024
409335.424224
