1.5625
0
0
-1.5625
167742.178024
422225.333894
