1.5625
0
0
-1.5625
136672.133024
417454.962094
