1.5625
0
0
-1.5625
162558.498024
567965.768811
