1.5625
0
0
-1.5625
178326.086024
590160.594685
