1.5625
0
0
-1.5625
143098.656024
552881.203035
