1.5625
0
0
-1.5625
49918.7430236
385366.489409
