1.5625
0
0
-1.5625
38276.5240236
374997.486315
