1.5625
0
0
-1.5625
187119.238024
463216.599098
