1.5625
0
0
-1.5625
136080.078024
468796.620102
