1.5625
0
0
-1.5625
228837.396024
526676.947949
