1.5625
0
0
-1.5625
242575.159024
517544.920669
