1.5625
0
0
-1.5625
73184.2880236
449029.032937
