1.5625
0
0
-1.5625
123797.986024
435264.108673
