1.5625
0
0
-1.5625
78644.2440236
387300.799972
