1.5625
0
0
-1.5625
223371.971024
529542.32287
