1.5625
0
0
-1.5625
149350.367024
469946.90961
