1.5625
0
0
-1.5625
190477.007024
583312.612976
