1.5625
0
0
-1.5625
213820.196024
521070.887555
