1.5625
0
0
-1.5625
162931.131024
437350.298858
