1.5625
0
0
-1.5625
165209.549024
556029.716559
