1.5625
0
0
-1.5625
158533.230024
444273.360063
