1.5625
0
0
-1.5625
159105.846024
554951.29587
