1.5625
0
0
-1.5625
170829.753024
569896.715528
