1.5625
0
0
-1.5625
184089.149024
355773.993504
