1.5625
0
0
-1.5625
126009.602024
443336.806492
