1.5625
0
0
-1.5625
170058.576024
558417.431843
