1.5625
0
0
-1.5625
205678.629024
537096.461181
