1.5625
0
0
-1.5625
118273.544024
464194.430472
