1.5625
0
0
-1.5625
52229.8050236
392124.329449
