1.5625
0
0
-1.5625
47519.0320236
403444.008504
