1.5625
0
0
-1.5625
129507.928024
434134.462693
