1.5625
0
0
-1.5625
101810.268024
434187.280012
