1.5625
0
0
-1.5625
57696.4240236
380453.60339
