1.5625
0
0
-1.5625
92719.9850236
412390.860811
