1.5625
0
0
-1.5625
160717.185024
547507.59811
