1.5625
0
0
-1.5625
41824.6030236
400614.025138
