1.5625
0
0
-1.5625
171134.791024
553731.452717
