1.5625
0
0
-1.5625
63040.6860236
389581.042665
